BEGIN:VCALENDAR
VERSION:2.0
CALSCALE:GREGORIAN
METHOD:PUBLISH
X-WR-TIMEZONE:Australia/Sydney
BEGIN:VTIMEZONE
TZID:Australia/Sydney
BEGIN:STANDARD
TZNAME:AEST
END:STANDARD
END:VTIMEZONE
BEGIN:VEVENT
DTSTART;TZID=Australia/Sydney:20210219T080000
DTEND;TZID=Australia/Sydney:20210219T082500
RRULE:FREQ=WEEKLY;UNTIL=20210326T082500;BYDAY=FR
DTSTAMP:20260420T075446
UID:354
SUMMARY:Fun Fitness with Mrs K
DESCRIPTION:




On the oval


SEQUENCE:0
STATUS:CONFIRMED
TRANSP:OPAQUE
END:VEVENT
END:VCALENDAR